Workbook

Sheet תעריפון
A1: נספח 4 - תעריפון
A3: לצורך התעריפון יש להבחין בין תכנית קטנה לתכנית גדולה (סעיפים 7-10 בתעריפון):
A4: תכנית קטנה - כוללת עד שלושה מוסדות
A5: תכנית גדולה - כוללת 4 מוסדות לפחות
B7: פעולה | D7: מחיר ליחידה אחת
A8: 1 | B8: פיתוח כלים | C8: פיתוח שאלון 50 היגדים
C9: פיתוח שאלון 30 היגדים
C10: פיתוח שאלון 10 היגדים
C11: פיתוח מתווה לראיון אישי
C12: פיתוח מתווה לראיון טלפוני
C13: פיתוח מתווה לקבוצת מיקוד
C14: פיתוח מתווה לתצפית
C15: התאמת שאלון קיים (50 שאלות)
C16: התאמת שאלון קיים (10-30 שאלות)
A17: 2 | B17: הפצת ועיבוד שאלונים | C17: הרצת השאלון, ניהול ההפצה, ניתוח ועיבוד הנתונים הכמותיים וניתוחי תוכן של השאלות הפיתוחות - 50 היגדים
C18: הרצת השאלון, ניהול ההפצה, ניתוח ועיבוד הנתונים הכמותיים וניתוחי תוכן של השאלות הפיתוחות - 30 היגדים
C19: הרצת השאלון, ניהול ההפצה, ניתוח ועיבוד הנתונים הכמותיים וניתוחי תוכן של השאלות הפתוחות - 10 היגדים
A20: 3 | B20: תצפית / ביקור | C20: ביצוע תצפית, תמלול, עיבוד וניתוח הנתונים
A21: 4 | B21: ביצוע ועיבוד קבוצת מיקוד | C21: ניהול קבוצת מיקוד, עיבוד וניתוח תוכן
A22: 5 | B22: ראיון | C22: ביצוע ועיבוד ראיון אישי או ראיון טלפוני כולל עיבוד וניתוח המידע שנאסף
A23: 6 | B23: השלמות טלפוניות לבוגרי אסכולה | C23: השלמות טלפוניות לבוגרים שלא השיבו על הסקר השנתי באופן מקוון, עלות פר בוגר
A24: 7 | B24: הפקת דוח מסכם שנתי למטה מרכז מדעני העתיד לתוכנית גדולה | C24: דוח מסכם - קבלת נתונים, ארגון, טיוב, ביצוע ניתוחים, לכל תוכנית ולפי מוסדות
A25: 8 | B25: הפקת דוח מוסדי שנתי לתוכנית גדולה | C25: דוח מסכם - קבלת נתונים, ארגון, טיוב, ביצוע ניתוחים, לכל מוסד
A26: 9 | B26: הפקת דוח מסכם שנתי למטה מרכז מדעני העתיד לתוכנית קטנה | C26: דוח מסכם - קבלת נתונים, ארגון, טיוב, ביצוע ניתוחים, לכל תוכנית ולפי מוסדות
A27: 10 | B27: הפקת דוח מוסדי שנתי לתוכנית קטנה | C27: דוח מסכם - קבלת נתונים, ארגון, טיוב, ביצוע ניתוחים, לכל מוסד
A28: 11 | B28: הפקת דוח מסכם שנתי למטה מרכז מדעני העתיד לרשת אסכולה | C28: דוח מסכם - קבלת נתונים, ארגון, טיוב, ביצוע ניתוחים, לכל תוכנית ולפי מוסדות
A29: 12 | B29: הפקת מצגת מלווה דוח שנתי | C29: דוח מסכם בפורמט מצגת למטה מדעני העתיד
A30: 13 | B30: מפגש להצגת ממצאים | C30: הגעה פיזית של צוות ההערכה למפגש
A31: 14 | B31: הפקת דוח קורס ספציפי - קורס אתגרים לאומיים | C31: דוח מסכם - ביצוע ניתוחים באופן כללי ולפי תוכניות ומוסדות
... A35: 18 | B35: תעריף שעתי | C35: יש לתמחר תעריף שעתי עבור פעולות נוספות שנדרשות ואינן כלולות במסגרת הפעולות ברשימה.
A36: 19 | B36: ניהול המחקר | C36: כאחוז מהיקף הפעילות | D36: 0 | E36: נא למלא את האחוז
A41: שירותים אופציונאלים - לא באים בשיקלול הניקוד
A42: 1 | B42: הפקת דו"ח תוקף ביניים למטה מרכז מדעני העתיד לכל תוכנית בחינוך העל יסודי | C42: דו"ח ביניים קבלת נתונים, ארגון, טיוב, ביצוע ניתוחי תוקף, סיכום מאפייני חזאים ותוקף מבנה לכל התוכנית ולפי מוסדות
A43: 2 | B43: הפקת דו"ח תוקף ביניים לכל מוסד אקדמי בכל תוכנית בחינוך העל יסודי | C43: דו"ח ביניים- קבלת נתונים, ארגון, טיוב, ביצוע ניתוחי תוקף, סיכום מאפייני חזאים ותוקף מבנה לכל התוכנית ולפי מוסדות
A44: 3 | B44: הפקת מצגת לדו"ח תוקף ביניים לכל מוסד אקדמי בכל תוכנית בחינוך העל יסודי | C44: דוח מסכם בפורמט מצגת למטה מדעני העתיד
A45: 4 | B45: הפקת דוח תוקף מסכם - למטה מרכז מדעני העתיד בכל תוכנית בחינוך העל יסודי | C45: דו"ח מסכם - קבלת נתונים, ארגון, טיוב, ביצוע ניתוחי תוקף, סיכום מאפייני חזאים ותוקף מבנה לכל מוסד
A46: 5 | B46: הפקת דוח תוקף מסכם - לכל מוסד אקדמי בכל תוכנית בחינוך העל יסודי | C46: דו"ח מסכם - קבלת נתונים, ארגון, טיוב, ביצוע ניתוחי תוקף, סיכום תוקף ניבוי של תהליך המיון לכל התוכנית ולפי מוסדות
A47: 6 | B47: הפקת מצגת מלווה דו"ח תוקף למטה מדעני העתיד | C47: דוח מסכם בפורמט מצגת למטה מדעני העתיד

Sheet ריכוז עלויות
A2: ריכוז עלויות
A4: תכנית | B4: סה"כ
A5: אלפא | B5: =אלפא!E30 -> 0
A6: אידיאה | B6: =אידיאה!E30 -> 0
A7: אודיסאה | B7: =אודיסאה!E30 -> 0
A8: נבחרות ישראל במדעים | B8: ='נבחרות ישראל במדעים'!E30 -> 0
A9: מצוינות למדע | B9: ='מצוינות למדע'!E30 -> 0
A10: עתיד למדע | B10: ='עתיד למדע'!E30 -> 0
A11: אסכולה | B11: =אסכולה!E30 -> 0
A12: סה"כ | B12: =SUM(B5:B11) -> 0

Sheet אלפא
B2: תקציב מוצע לתכנית _________________
B4: פעולה | C4: מחיר | D4: כמות | E4: עלות
E5: =C5*D5 -> 0
E6: =C6*D6 -> 0
E7: =C7*D7 -> 0
E8: =C8*D8 -> 0
E9: =C9*D9 -> 0
E10: =C10*D10 -> 0
E11: =C11*D11 -> 0
E12: =C12*D12 -> 0
E13: =C13*D13 -> 0
E14: =C14*D14 -> 0
E15: =C15*D15 -> 0
E16: =C16*D16 -> 0
... E28: =C28*D28 -> 0
B29: ניהול המחקר | C29: =תעריפון!D36 -> 0 | E29: =SUM(E5:E28)*C29 -> 0
B30: סה"כ | E30: =SUM(E5:E29) -> 0
B32: הערות לבניית התקציב :
B33: יש למלא את האקסל המצורף לכל אחת מהתוכניות בנפרד
B34: על התקציב לכלול אך ורק רכיבים שמופיעים בתעריפון על פי המחיר המוצע בתעריפון
B35: על התקציב לכלול היקף עבודה שנתי
B36: יש לכלול התייחסות בכל אחת מהתוכניות לכל היקף הפעלת התכנית - כפי שמתואר בקול הקורא ובטבלה המצורפת
B37: היקף הפעילות המוצע יהיה נתון למשא ומתן לאחר בחירת הגוף הזוכה
B39: חלוקת היקף התקציב בין התכניות:
B40: אלפא אידאה ואודיסאה | C40: 0.65
B41: נבחרות ישראל במדעים | C41: 0.15
B42: מצוינות למדע ועתיד למדע | C42: 0.15
B43: אסכולה | C43: 0.05
C44: =SUM(C40:C43) -> 1

Sheet אידיאה
B2: תקציב מוצע לתכנית _________________
B4: פעולה | C4: מחיר | D4: כמות | E4: עלות
E5: =C5*D5 -> 0
E6: =C6*D6 -> 0
E7: =C7*D7 -> 0
E8: =C8*D8 -> 0
E9: =C9*D9 -> 0
E10: =C10*D10 -> 0
E11: =C11*D11 -> 0
E12: =C12*D12 -> 0
E13: =C13*D13 -> 0
E14: =C14*D14 -> 0
E15: =C15*D15 -> 0
E16: =C16*D16 -> 0
... E28: =C28*D28 -> 0
B29: ניהול המחקר | C29: =תעריפון!D36 -> 0 | E29: =SUM(E5:E28)*C29 -> 0
B30: סה"כ | E30: =SUM(E5:E29) -> 0
B32: הערות לבניית התקציב :
B33: יש למלא את האקסל המצורף לכל אחת מהתוכניות בנפרד
B34: על התקציב לכלול אך ורק רכיבים שמופיעים בתעריפון על פי המחיר המוצע בתעריפון
B35: על התקציב לכלול היקף עבודה שנתי
B36: יש לכלול התייחסות בכל אחת מהתוכניות לכל היקף הפעלת התכנית - כפי שמתואר בקול הקורא ובטבלה המצורפת
B37: היקף הפעילות המוצע יהיה נתון למשא ומתן לאחר בחירת הגוף הזוכה
B39: חלוקת היקף התקציב בין התכניות:
B40: אלפא אידאה ואודיסאה | C40: 0.65
B41: נבחרות ישראל במדעים | C41: 0.15
B42: מצוינות למדע ועתיד למדע | C42: 0.15
B43: אסכולה | C43: 0.05
C44: =SUM(C40:C43) -> 1

Sheet אודיסאה
B2: תקציב מוצע לתכנית _________________
B4: פעולה | C4: מחיר | D4: כמות | E4: עלות
E5: =C5*D5 -> 0
E6: =C6*D6 -> 0
E7: =C7*D7 -> 0
E8: =C8*D8 -> 0
E9: =C9*D9 -> 0
E10: =C10*D10 -> 0
E11: =C11*D11 -> 0
E12: =C12*D12 -> 0
E13: =C13*D13 -> 0
E14: =C14*D14 -> 0
E15: =C15*D15 -> 0
E16: =C16*D16 -> 0
... E28: =C28*D28 -> 0
B29: ניהול המחקר | C29: =תעריפון!D36 -> 0 | E29: =SUM(E5:E28)*C29 -> 0
B30: סה"כ | E30: =SUM(E5:E29) -> 0
B32: הערות לבניית התקציב :
B33: יש למלא את האקסל המצורף לכל אחת מהתוכניות בנפרד
B34: על התקציב לכלול אך ורק רכיבים שמופיעים בתעריפון על פי המחיר המוצע בתעריפון
B35: על התקציב לכלול היקף עבודה שנתי
B36: יש לכלול התייחסות בכל אחת מהתוכניות לכל היקף הפעלת התכנית - כפי שמתואר בקול הקורא ובטבלה המצורפת
B37: היקף הפעילות המוצע יהיה נתון למשא ומתן לאחר בחירת הגוף הזוכה
B39: חלוקת היקף התקציב בין התכניות:
B40: אלפא אידאה ואודיסאה | C40: 0.65
B41: נבחרות ישראל במדעים | C41: 0.15
B42: מצוינות למדע ועתיד למדע | C42: 0.15
B43: אסכולה | C43: 0.05
C44: =SUM(C40:C43) -> 1

Sheet נבחרות ישראל במדעים
B2: תקציב מוצע לתכנית _________________
B4: פעולה | C4: מחיר | D4: כמות | E4: עלות
E5: =C5*D5 -> 0
E6: =C6*D6 -> 0
E7: =C7*D7 -> 0
E8: =C8*D8 -> 0
E9: =C9*D9 -> 0
E10: =C10*D10 -> 0
E11: =C11*D11 -> 0
E12: =C12*D12 -> 0
E13: =C13*D13 -> 0
E14: =C14*D14 -> 0
E15: =C15*D15 -> 0
E16: =C16*D16 -> 0
... E28: =C28*D28 -> 0
B29: ניהול המחקר | C29: =תעריפון!D36 -> 0 | E29: =SUM(E5:E28)*C29 -> 0
B30: סה"כ | E30: =SUM(E5:E29) -> 0
B32: הערות לבניית התקציב :
B33: יש למלא את האקסל המצורף לכל אחת מהתוכניות בנפרד
B34: על התקציב לכלול אך ורק רכיבים שמופיעים בתעריפון על פי המחיר המוצע בתעריפון
B35: על התקציב לכלול היקף עבודה שנתי
B36: יש לכלול התייחסות בכל אחת מהתוכניות לכל היקף הפעלת התכנית - כפי שמתואר בקול הקורא ובטבלה המצורפת
B37: היקף הפעילות המוצע יהיה נתון למשא ומתן לאחר בחירת הגוף הזוכה
B39: חלוקת היקף התקציב בין התכניות:
B40: אלפא אידאה ואודיסאה | C40: 0.65
B41: נבחרות ישראל במדעים | C41: 0.15
B42: מצוינות למדע ועתיד למדע | C42: 0.15
B43: אסכולה | C43: 0.05
C44: =SUM(C40:C43) -> 1

Sheet מצוינות למדע
B2: תקציב מוצע לתכנית _________________
B4: פעולה | C4: מחיר | D4: כמות | E4: עלות
E5: =C5*D5 -> 0
E6: =C6*D6 -> 0
E7: =C7*D7 -> 0
E8: =C8*D8 -> 0
E9: =C9*D9 -> 0
E10: =C10*D10 -> 0
E11: =C11*D11 -> 0
E12: =C12*D12 -> 0
E13: =C13*D13 -> 0
E14: =C14*D14 -> 0
E15: =C15*D15 -> 0
E16: =C16*D16 -> 0
... E28: =C28*D28 -> 0
B29: ניהול המחקר | C29: =תעריפון!D36 -> 0 | E29: =SUM(E5:E28)*C29 -> 0
B30: סה"כ | E30: =SUM(E5:E29) -> 0
B32: הערות לבניית התקציב :
B33: יש למלא את האקסל המצורף לכל אחת מהתוכניות בנפרד
B34: על התקציב לכלול אך ורק רכיבים שמופיעים בתעריפון על פי המחיר המוצע בתעריפון
B35: על התקציב לכלול היקף עבודה שנתי
B36: יש לכלול התייחסות בכל אחת מהתוכניות לכל היקף הפעלת התכנית - כפי שמתואר בקול הקורא ובטבלה המצורפת
B37: היקף הפעילות המוצע יהיה נתון למשא ומתן לאחר בחירת הגוף הזוכה
B39: חלוקת היקף התקציב בין התכניות:
B40: אלפא אידאה ואודיסאה | C40: 0.65
B41: נבחרות ישראל במדעים | C41: 0.15
B42: מצוינות למדע ועתיד למדע | C42: 0.15
B43: אסכולה | C43: 0.05
C44: =SUM(C40:C43) -> 1

Sheet עתיד למדע
B2: תקציב מוצע לתכנית _________________
B4: פעולה | C4: מחיר | D4: כמות | E4: עלות
E5: =C5*D5 -> 0
E6: =C6*D6 -> 0
E7: =C7*D7 -> 0
E8: =C8*D8 -> 0
E9: =C9*D9 -> 0
E10: =C10*D10 -> 0
E11: =C11*D11 -> 0
E12: =C12*D12 -> 0
E13: =C13*D13 -> 0
E14: =C14*D14 -> 0
E15: =C15*D15 -> 0
E16: =C16*D16 -> 0
... E28: =C28*D28 -> 0
B29: ניהול המחקר | C29: =תעריפון!D36 -> 0 | E29: =SUM(E5:E28)*C29 -> 0
B30: סה"כ | E30: =SUM(E5:E29) -> 0
B32: הערות לבניית התקציב :
B33: יש למלא את האקסל המצורף לכל אחת מהתוכניות בנפרד
B34: על התקציב לכלול אך ורק רכיבים שמופיעים בתעריפון על פי המחיר המוצע בתעריפון
B35: על התקציב לכלול היקף עבודה שנתי
B36: יש לכלול התייחסות בכל אחת מהתוכניות לכל היקף הפעלת התכנית - כפי שמתואר בקול הקורא ובטבלה המצורפת
B37: היקף הפעילות המוצע יהיה נתון למשא ומתן לאחר בחירת הגוף הזוכה
B39: חלוקת היקף התקציב בין התכניות:
B40: אלפא אידאה ואודיסאה | C40: 0.65
B41: נבחרות ישראל במדעים | C41: 0.15
B42: מצוינות למדע ועתיד למדע | C42: 0.15
B43: אסכולה | C43: 0.05
C44: =SUM(C40:C43) -> 1

Sheet אסכולה
B2: תקציב מוצע לתכנית _________________
B4: פעולה | C4: מחיר | D4: כמות | E4: עלות
E5: =C5*D5 -> 0
E6: =C6*D6 -> 0
E7: =C7*D7 -> 0
E8: =C8*D8 -> 0
E9: =C9*D9 -> 0
E10: =C10*D10 -> 0
E11: =C11*D11 -> 0
E12: =C12*D12 -> 0
E13: =C13*D13 -> 0
E14: =C14*D14 -> 0
E15: =C15*D15 -> 0
E16: =C16*D16 -> 0
... E28: =C28*D28 -> 0
B29: ניהול המחקר | C29: =תעריפון!D36 -> 0 | E29: =SUM(E5:E28)*C29 -> 0
B30: סה"כ | E30: =SUM(E5:E29) -> 0
B32: הערות לבניית התקציב :
B33: יש למלא את האקסל המצורף לכל אחת מהתוכניות בנפרד
B34: על התקציב לכלול אך ורק רכיבים שמופיעים בתעריפון על פי המחיר המוצע בתעריפון
B35: על התקציב לכלול היקף עבודה שנתי
B36: יש לכלול התייחסות בכל אחת מהתוכניות לכל היקף הפעלת התכנית - כפי שמתואר בקול הקורא ובטבלה המצורפת
B37: היקף הפעילות המוצע יהיה נתון למשא ומתן לאחר בחירת הגוף הזוכה
B39: חלוקת היקף התקציב בין התכניות:
B40: אלפא אידאה ואודיסאה | C40: 0.65
B41: נבחרות ישראל במדעים | C41: 0.15
B42: מצוינות למדע ועתיד למדע | C42: 0.15
B43: אסכולה | C43: 0.05
C44: =SUM(C40:C43) -> 1

Sheet היקף פעילות תשפ"ז
B3: היקף הפעילות התוכניות בשנת הלימודים תשפ"ז
B5: שם התוכנית | C5: שם המוסד | D5: היקף
B6: אלפא | C6: תל אביב | D6: כיתות י, י"א י"ב
C7: בן גוריון | D7: כיתות י, י"א י"ב
C8: העברית | D8: כיתות י, י"א י"ב
C9: טכניון | D9: כיתות י, י"א י"ב
C10: מכון ויצמן | D10: כיתות י, י"א י"ב
C11: אריאל | D11: כיתות י, י"א י"ב
C12: בר אילן | D12: כיתות י, י"א י"ב
B13: אידאה | C13: תל אביב | D13: כיתות י, י"א י"ב
C14: ירושלים | D14: כיתות י, י"א י"ב
C15: חיפה | D15: כיתות י, י"א י"ב
B16: אודיסאה | C16: תל אביב - מסלול פיזיקה | D16: י"א-י"ב - 2 כיתות
C17: תל אביב - מסלול כימיה | D17: י"א-י"ב - 2 כיתות
C18: תל אביב - מסלול סייבר | D18: י"א-י"ב - 2 כיתות
C19: תל אביב - מסלול מדעי | D19: ט-י - 2 כיתות
C20: תל אביב - מסלול חישובי | D20: ט-י - 2 כיתות
C21: בן גוריון - מסלול מדעים | D21: ט-י"ב - 4 כיתות
C22: טכניון - מסלול רב תחומי | D22: ט-י"ב - 4 כיתות
C23: טכניון - מסלול סייבר | D23: י"ב - כיתה אחת
C24: העברית- מסלול פיזיקה - מתמטיקה - מדעי המחשב | D24: ט-י"ב - 4 כיתות
C25: בר אילן - מסלול פיזיקה קוונטית | D25: ט-י"ב - 4 כיתות
C26: בר אילן - מסלול מדעי המחשב AI | D26: ט-י - 2 כיתות
C27: תל חי | D27: ט-י"ב - 4 כיתות
B28: מצוינות למדע | C28: תל אביב | D28: כיתות ז, ח
C29: העברית | D29: כיתות ז, ח
C30: בר אילן | D30: כיתות ז, ח
C31: טכניון | D31: כיתות ז, ח
C32: בן גוריון | D32: כיתות ז, ח
B33: עתיד למדע | C33: מכון ויצמן | D33: כיתות ז, ח
C34: תל חי | D34: כיתות ז, ח
B35: נבחרות בוגרות | C35: בן גוריון | D35: פיזיקה
C36: טכניון | D36: כימיה
C37: בר אילן | D37: מדעי המחשב, בינה מלאכותית וסייבר
C38: מכון ויצמן | D38: מתמטיקה
C39: תל אביב | D39: ביולוגיה
B40: נבחרת צעירה | C40: תל אביב
B41: רשת אסכולה | C41: מופעלת באמצעות המרכז ומונה כ 3800 חברים ומצטרפים חדשים כל שנה
